BEGIN:VCALENDAR
VERSION:2.0
PRODID:-//Bienal MoAC Biss - ECPv6.15.15//NONSGML v1.0//EN
CALSCALE:GREGORIAN
METHOD:PUBLISH
X-WR-CALNAME:Bienal MoAC Biss
X-ORIGINAL-URL:https://bienalmoacbiss.org
X-WR-CALDESC:Eventos para Bienal MoAC Biss
REFRESH-INTERVAL;VALUE=DURATION:PT1H
X-Robots-Tag:noindex
X-PUBLISHED-TTL:PT1H
BEGIN:VTIMEZONE
TZID:America/Sao_Paulo
BEGIN:STANDARD
TZOFFSETFROM:-0300
TZOFFSETTO:-0300
TZNAME:-03
DTSTART:20240101T000000
END:STANDARD
END:VTIMEZONE
BEGIN:VEVENT
DTSTART;TZID=America/Sao_Paulo:20250528T170000
DTEND;TZID=America/Sao_Paulo:20250528T190000
DTSTAMP:20260423T153750
CREATED:20250410T175002Z
LAST-MODIFIED:20250526T140621Z
UID:3779-1748451600-1748458800@bienalmoacbiss.org
SUMMARY:WORKSHOP DE POESIA FALADA
DESCRIPTION:WORKSHOP DE POESIA FALADA\nFacilitadora: Miriane Peregrino\nParticipantes: Canditatos selecionados\nLocal: Espaço Camões CCP\nDatas: 28 \ 17h
URL:https://bienalmoacbiss.org/programacao/workshop-de-poesia-falada/
LOCATION:Espaço Camões CCP\, Guinea-Bissau
CATEGORIES:Literatura,WORKSHOP
ATTACH;FMTTYPE=image/webp:https://bienalmoacbiss.org/wp-content/uploads/2025/04/moacbiss25-cartaz-programacao-WORKSHOP-POESIA-FALADA-4.webp
ORGANIZER;CN="Coordena%C3%A7%C3%A3o da Funda%C3%A7%C3%A3o Bienal MoAC Biss":MAILTO:fundacaobienalmoacbiss@gmail.com
END:VEVENT
BEGIN:VEVENT
DTSTART;TZID=America/Sao_Paulo:20250528T170000
DTEND;TZID=America/Sao_Paulo:20250528T210000
DTSTAMP:20260423T153750
CREATED:20250410T183550Z
LAST-MODIFIED:20250525T231515Z
UID:3825-1748451600-1748466000@bienalmoacbiss.org
SUMMARY:DJUMBAI COM ARTE 8 - "Produção de narrativas no teatro"
DESCRIPTION:DJUMBAI COM ARTE 8\n“Produção de narrativas no teatro”\nConvidados: Zia Soares\, Xulaji\, Nuno Pratas e Ady Batista\nPivô: Welket Bungué\nLocal: Sede da Bienal\nData: 28 \ 17h
URL:https://bienalmoacbiss.org/programacao/djumbai-com-arte-8-producao-de-narrativas-no-teatro/
LOCATION:Sede da Bienal\, Bissau\, Bissau\, Guinea-Bissau
CATEGORIES:Bienal,RODA DE CONVERSA,TEATRO
ATTACH;FMTTYPE=image/webp:https://bienalmoacbiss.org/wp-content/uploads/2025/04/moacbiss25-cartaz-programacao-DJUMBAI-COM-ARTE-8-1.webp
ORGANIZER;CN="Coordena%C3%A7%C3%A3o da Funda%C3%A7%C3%A3o Bienal MoAC Biss":MAILTO:fundacaobienalmoacbiss@gmail.com
END:VEVENT
BEGIN:VEVENT
DTSTART;TZID=America/Sao_Paulo:20250528T200000
DTEND;TZID=America/Sao_Paulo:20250528T230000
DTSTAMP:20260423T153750
CREATED:20250410T184059Z
LAST-MODIFIED:20250526T121309Z
UID:3834-1748462400-1748473200@bienalmoacbiss.org
SUMMARY:MOSTRA: CINEMA DE MANDJUANDADI 6 - "Uma cine-cartografia de libertação - Seleção Arsenal on Location"
DESCRIPTION:MOSTRA – CINEMA DE MANDJUANDADI 6\nTítulo da Sessão: “Uma cine-cartografia de libertação\nRealizadores: Filipa César e Sana Na N´Hada \nSeleção Arsenal on Location\nLocal: Espaço Ur-Gente\nData: 28 \ 20h
URL:https://bienalmoacbiss.org/programacao/mostra-cinema-de-mandjuandadi-6-uma-cine-cartografia-de-libertacao-selecao-arsenal-on-location/
LOCATION:Ur-Gente\, Guinea-Bissau
CATEGORIES:Bienal,CINEMA,MOSTRA
ATTACH;FMTTYPE=image/webp:https://bienalmoacbiss.org/wp-content/uploads/2025/04/moacbiss25-cartaz-programacao-MOSTRA-DE-CINEMA-DE-MANDJUANDADI-6-4.webp
ORGANIZER;CN="Coordena%C3%A7%C3%A3o da Funda%C3%A7%C3%A3o Bienal MoAC Biss":MAILTO:fundacaobienalmoacbiss@gmail.com
END:VEVENT
BEGIN:VEVENT
DTSTART;TZID=America/Sao_Paulo:20250529T170000
DTEND;TZID=America/Sao_Paulo:20250529T213000
DTSTAMP:20260423T153750
CREATED:20250410T180141Z
LAST-MODIFIED:20250528T115927Z
UID:3792-1748538000-1748554200@bienalmoacbiss.org
SUMMARY:LANÇAMENTO DO LIVRO 4 "Kankuran Wandan"
DESCRIPTION:LANÇAMENTO DE LIVRO 4 \nObras: “Kankuran Wandan”\nAutores:  Catarina Schwarz \nLocal: Espaço Camões\, CCP (Exterior)\nData: 29\ 17h
URL:https://bienalmoacbiss.org/programacao/lancamento-do-livro-4-kankuran-wandan/
LOCATION:Espaço Camões CCP\, Guinea-Bissau
CATEGORIES:Bienal,LANÇAMENTO,Literatura,Livro
ATTACH;FMTTYPE=image/webp:https://bienalmoacbiss.org/wp-content/uploads/2025/04/moacbiss25-cartaz-programacao-LANCAMENTO-DE-LIVRO-4-5.webp
ORGANIZER;CN="Coordena%C3%A7%C3%A3o da Funda%C3%A7%C3%A3o Bienal MoAC Biss":MAILTO:fundacaobienalmoacbiss@gmail.com
END:VEVENT
BEGIN:VEVENT
DTSTART;TZID=America/Sao_Paulo:20250529T190000
DTEND;TZID=America/Sao_Paulo:20250529T220000
DTSTAMP:20260423T153750
CREATED:20250410T183656Z
LAST-MODIFIED:20250527T130613Z
UID:3828-1748545200-1748556000@bienalmoacbiss.org
SUMMARY:MANDJUANDADI DI SLAM
DESCRIPTION:MANDJUANDADI DI SLAM\nFacilitadores: Miriane Peregrino e Marinho de Pina\nLocal: Espaço Camões\, CCP (espaço exterior)\nData: 29\ 19h
URL:https://bienalmoacbiss.org/programacao/mandjuandadi-di-slam/
LOCATION:Espaço Camões CCP\, Guinea-Bissau
CATEGORIES:Bienal,MÚSICA,SLAM
ATTACH;FMTTYPE=image/webp:https://bienalmoacbiss.org/wp-content/uploads/2025/04/moacbiss25-cartaz-programacao-mandjuandadi-di-slam.webp
ORGANIZER;CN="Coordena%C3%A7%C3%A3o da Funda%C3%A7%C3%A3o Bienal MoAC Biss":MAILTO:fundacaobienalmoacbiss@gmail.com
END:VEVENT
BEGIN:VEVENT
DTSTART;TZID=America/Sao_Paulo:20250530T180000
DTEND;TZID=America/Sao_Paulo:20250530T200000
DTSTAMP:20260423T153750
CREATED:20250528T125532Z
LAST-MODIFIED:20250528T125532Z
UID:4793-1748628000-1748635200@bienalmoacbiss.org
SUMMARY:Imersão da Bienal em Pilum
DESCRIPTION:IMERSÃO DA BIENAL EM PILUM\nLOCAL: Pilum\nHora: 18h
URL:https://bienalmoacbiss.org/programacao/imersao-da-bienal-em-pilum/
LOCATION:Pilum\, Bissau\, Guinea-Bissau
CATEGORIES:Bienal
ATTACH;FMTTYPE=image/webp:https://bienalmoacbiss.org/wp-content/uploads/2025/05/moacbiss25-cartaz-programacao-imersao-pilum.webp
ORGANIZER;CN="Coordena%C3%A7%C3%A3o da Funda%C3%A7%C3%A3o Bienal MoAC Biss":MAILTO:fundacaobienalmoacbiss@gmail.com
END:VEVENT
BEGIN:VEVENT
DTSTART;TZID=America/Sao_Paulo:20250530T200000
DTEND;TZID=America/Sao_Paulo:20250530T230000
DTSTAMP:20260423T153750
CREATED:20250410T184243Z
LAST-MODIFIED:20250528T125619Z
UID:3837-1748635200-1748646000@bienalmoacbiss.org
SUMMARY:ESPETÁCULO DE TEATRO 5 - “Arus Femia”
DESCRIPTION:ESPETÁCULO DE TEATRO 5\nTítulo: “Arus Femia”\nArtista: Zia Soares\nLocal: CCFBG\nData: 30 \ 20h
URL:https://bienalmoacbiss.org/programacao/espetaculo-de-teatro-5-arus-femia/
LOCATION:CCFBG\, Guinea-Bissau
CATEGORIES:Bienal,Espetáculo,TEATRO
ATTACH;FMTTYPE=image/webp:https://bienalmoacbiss.org/wp-content/uploads/2025/04/moacbiss25-cartaz-programacao-ESPETACULO-TEATRO-5-ARUS-FEMIA.webp
ORGANIZER;CN="Coordena%C3%A7%C3%A3o da Funda%C3%A7%C3%A3o Bienal MoAC Biss":MAILTO:fundacaobienalmoacbiss@gmail.com
END:VEVENT
BEGIN:VEVENT
DTSTART;TZID=America/Sao_Paulo:20250531T170000
DTEND;TZID=America/Sao_Paulo:20250531T200000
DTSTAMP:20260423T153750
CREATED:20250410T182029Z
LAST-MODIFIED:20250527T191916Z
UID:3809-1748710800-1748721600@bienalmoacbiss.org
SUMMARY:ENCERRAMENTO 1ª BIENAL MOAC BISS “MANDJUANDADI: IDENTIDADES EM LIBERDADE”
DESCRIPTION:ENCERRAMENTO\n1ª BIENAL MOAC BISS “MANDJUANDADI: IDENTIDADES EM LIBERDADE”\nLOCAL: SEDE DA BIENAL\nDATA: 31 | MAIO | 2025\nHORA: 17H
URL:https://bienalmoacbiss.org/programacao/encerramento-1a-bienal-moac-biss-mandjuandadi-identidades-em-liberdade/
LOCATION:Sede da Bienal\, Bissau\, Bissau\, Guinea-Bissau
CATEGORIES:Bienal,Encerramento
ATTACH;FMTTYPE=image/webp:https://bienalmoacbiss.org/wp-content/uploads/2025/04/moacbiss25-cartaz-programacao-programacao-encerramento-scaled.webp
ORGANIZER;CN="Coordena%C3%A7%C3%A3o da Funda%C3%A7%C3%A3o Bienal MoAC Biss":MAILTO:fundacaobienalmoacbiss@gmail.com
END:VEVENT
END:VCALENDAR