BEGIN:VCALENDAR
VERSION:2.0
PRODID:-//Bienal MoAC Biss - ECPv6.15.15//NONSGML v1.0//EN
CALSCALE:GREGORIAN
METHOD:PUBLISH
X-WR-CALNAME:Bienal MoAC Biss
X-ORIGINAL-URL:https://bienalmoacbiss.org
X-WR-CALDESC:Eventos para Bienal MoAC Biss
REFRESH-INTERVAL;VALUE=DURATION:PT1H
X-Robots-Tag:noindex
X-PUBLISHED-TTL:PT1H
BEGIN:VTIMEZONE
TZID:America/Sao_Paulo
BEGIN:STANDARD
TZOFFSETFROM:-0300
TZOFFSETTO:-0300
TZNAME:-03
DTSTART:20240101T000000
END:STANDARD
END:VTIMEZONE
BEGIN:VEVENT
DTSTART;TZID=America/Sao_Paulo:20250528T170000
DTEND;TZID=America/Sao_Paulo:20250528T190000
DTSTAMP:20260423T134140
CREATED:20250410T175002Z
LAST-MODIFIED:20250526T140621Z
UID:3779-1748451600-1748458800@bienalmoacbiss.org
SUMMARY:WORKSHOP DE POESIA FALADA
DESCRIPTION:WORKSHOP DE POESIA FALADA\nFacilitadora: Miriane Peregrino\nParticipantes: Canditatos selecionados\nLocal: Espaço Camões CCP\nDatas: 28 \ 17h
URL:https://bienalmoacbiss.org/programacao/workshop-de-poesia-falada/
LOCATION:Espaço Camões CCP\, Guinea-Bissau
CATEGORIES:Literatura,WORKSHOP
ATTACH;FMTTYPE=image/webp:https://bienalmoacbiss.org/wp-content/uploads/2025/04/moacbiss25-cartaz-programacao-WORKSHOP-POESIA-FALADA-4.webp
ORGANIZER;CN="Coordena%C3%A7%C3%A3o da Funda%C3%A7%C3%A3o Bienal MoAC Biss":MAILTO:fundacaobienalmoacbiss@gmail.com
END:VEVENT
BEGIN:VEVENT
DTSTART;TZID=America/Sao_Paulo:20250528T170000
DTEND;TZID=America/Sao_Paulo:20250528T210000
DTSTAMP:20260423T134140
CREATED:20250410T183550Z
LAST-MODIFIED:20250525T231515Z
UID:3825-1748451600-1748466000@bienalmoacbiss.org
SUMMARY:DJUMBAI COM ARTE 8 - "Produção de narrativas no teatro"
DESCRIPTION:DJUMBAI COM ARTE 8\n“Produção de narrativas no teatro”\nConvidados: Zia Soares\, Xulaji\, Nuno Pratas e Ady Batista\nPivô: Welket Bungué\nLocal: Sede da Bienal\nData: 28 \ 17h
URL:https://bienalmoacbiss.org/programacao/djumbai-com-arte-8-producao-de-narrativas-no-teatro/
LOCATION:Sede da Bienal\, Bissau\, Bissau\, Guinea-Bissau
CATEGORIES:Bienal,RODA DE CONVERSA,TEATRO
ATTACH;FMTTYPE=image/webp:https://bienalmoacbiss.org/wp-content/uploads/2025/04/moacbiss25-cartaz-programacao-DJUMBAI-COM-ARTE-8-1.webp
ORGANIZER;CN="Coordena%C3%A7%C3%A3o da Funda%C3%A7%C3%A3o Bienal MoAC Biss":MAILTO:fundacaobienalmoacbiss@gmail.com
END:VEVENT
BEGIN:VEVENT
DTSTART;TZID=America/Sao_Paulo:20250528T200000
DTEND;TZID=America/Sao_Paulo:20250528T230000
DTSTAMP:20260423T134140
CREATED:20250410T184059Z
LAST-MODIFIED:20250526T121309Z
UID:3834-1748462400-1748473200@bienalmoacbiss.org
SUMMARY:MOSTRA: CINEMA DE MANDJUANDADI 6 - "Uma cine-cartografia de libertação - Seleção Arsenal on Location"
DESCRIPTION:MOSTRA – CINEMA DE MANDJUANDADI 6\nTítulo da Sessão: “Uma cine-cartografia de libertação\nRealizadores: Filipa César e Sana Na N´Hada \nSeleção Arsenal on Location\nLocal: Espaço Ur-Gente\nData: 28 \ 20h
URL:https://bienalmoacbiss.org/programacao/mostra-cinema-de-mandjuandadi-6-uma-cine-cartografia-de-libertacao-selecao-arsenal-on-location/
LOCATION:Ur-Gente\, Guinea-Bissau
CATEGORIES:Bienal,CINEMA,MOSTRA
ATTACH;FMTTYPE=image/webp:https://bienalmoacbiss.org/wp-content/uploads/2025/04/moacbiss25-cartaz-programacao-MOSTRA-DE-CINEMA-DE-MANDJUANDADI-6-4.webp
ORGANIZER;CN="Coordena%C3%A7%C3%A3o da Funda%C3%A7%C3%A3o Bienal MoAC Biss":MAILTO:fundacaobienalmoacbiss@gmail.com
END:VEVENT
END:VCALENDAR