BEGIN:VCALENDAR
VERSION:2.0
PRODID:-//Bienal MoAC Biss - ECPv6.15.15//NONSGML v1.0//EN
CALSCALE:GREGORIAN
METHOD:PUBLISH
X-ORIGINAL-URL:https://bienalmoacbiss.org
X-WR-CALDESC:Eventos para Bienal MoAC Biss
REFRESH-INTERVAL;VALUE=DURATION:PT1H
X-Robots-Tag:noindex
X-PUBLISHED-TTL:PT1H
BEGIN:VTIMEZONE
TZID:America/Sao_Paulo
BEGIN:STANDARD
TZOFFSETFROM:-0300
TZOFFSETTO:-0300
TZNAME:-03
DTSTART:20240101T000000
END:STANDARD
END:VTIMEZONE
BEGIN:VEVENT
DTSTART;TZID=America/Sao_Paulo:20250525T100000
DTEND;TZID=America/Sao_Paulo:20250525T140000
DTSTAMP:20260423T134422
CREATED:20250410T182321Z
LAST-MODIFIED:20250519T140522Z
UID:3812-1748167200-1748181600@bienalmoacbiss.org
SUMMARY:WORKSHOP DE MÚSICA 2 - "Mandjuandadi\, matriz de uma nação"
DESCRIPTION:WORKSHOP DE MÚSICA 2 \nTítulo: “Mandjuandadi\, matriz de uma nação”\nFacilitadora: Karyna Gomes\nLocal: Sede da Bienal\nData: 25 \ 10h
URL:https://bienalmoacbiss.org/programacao/workshop-de-musica-2-mandjuandadi-matriz-de-uma-nacao/
LOCATION:Sede da Bienal\, Bissau\, Bissau\, Guinea-Bissau
CATEGORIES:Bienal,MÚSICA,WORKSHOP
ATTACH;FMTTYPE=image/webp:https://bienalmoacbiss.org/wp-content/uploads/2025/04/moacbiss25-cartaz-programacao-WORKSHOP-DE-MUSICA-2-KARYNAGOMES.webp
ORGANIZER;CN="Coordena%C3%A7%C3%A3o da Funda%C3%A7%C3%A3o Bienal MoAC Biss":MAILTO:fundacaobienalmoacbiss@gmail.com
END:VEVENT
BEGIN:VEVENT
DTSTART;TZID=America/Sao_Paulo:20250525T170000
DTEND;TZID=America/Sao_Paulo:20250525T210000
DTSTAMP:20260423T134422
CREATED:20250410T183020Z
LAST-MODIFIED:20250430T093926Z
UID:3819-1748192400-1748206800@bienalmoacbiss.org
SUMMARY:LANÇAMENTO DE LIVRO 5 - "Amílcar Cabral - Um Nacionalista e Pan-Africanista Revolucionário"
DESCRIPTION:LANÇAMENTO DE LIVRO 5\nTítulos: “Amílcar Cabral – Um Nacionalista e Pan-Africanista Revolucionário”\nAutor: Peter Karibe Mendy\nLocal: Sede da Bienal\nData: 25 \ 17h
URL:https://bienalmoacbiss.org/programacao/lancamento-de-livro-5-amilcar-cabral-um-nacionalista-e-pan-africanista-revolucionario/
LOCATION:Sede da Bienal\, Bissau\, Bissau\, Guinea-Bissau
CATEGORIES:LANÇAMENTO,Literatura,Livro
ATTACH;FMTTYPE=image/webp:https://bienalmoacbiss.org/wp-content/uploads/2025/04/moacbiss25-cartaz-programacao-LANCAMENTO-DE-LIVRO-5-1.webp
ORGANIZER;CN="Coordena%C3%A7%C3%A3o da Funda%C3%A7%C3%A3o Bienal MoAC Biss":MAILTO:fundacaobienalmoacbiss@gmail.com
END:VEVENT
BEGIN:VEVENT
DTSTART;TZID=America/Sao_Paulo:20250525T200000
DTEND;TZID=America/Sao_Paulo:20250525T230000
DTSTAMP:20260423T134422
CREATED:20250410T183843Z
LAST-MODIFIED:20250524T163357Z
UID:3831-1748203200-1748214000@bienalmoacbiss.org
SUMMARY:MOSTRA: CINEMA DE MANDJUANDADI 5 Título da Sessão: “Xalé”
DESCRIPTION:MOSTRA – CINEMA DE MANDJUANDADI 5\nTítulo da Sessão: “Xalé”\nRealizador: Moussa Sene Absa\nLocal: CCP (Espaço Exterior)\nData: 25 \ 20h
URL:https://bienalmoacbiss.org/programacao/mostra-cinema-de-mandjuandadi-5-titulo-da-sessao-xale/
LOCATION:Espaço Camões CCP\, Guinea-Bissau
CATEGORIES:Bienal,CINEMA,MOSTRA
ATTACH;FMTTYPE=image/webp:https://bienalmoacbiss.org/wp-content/uploads/2025/04/moacbiss25-cartaz-programacao-MOSTRA-DE-CINEMA-DE-MANDJUANDADI-5-xale.webp
END:VEVENT
END:VCALENDAR