BEGIN:VCALENDAR
VERSION:2.0
PRODID:-//Bienal MoAC Biss - ECPv6.15.15//NONSGML v1.0//EN
CALSCALE:GREGORIAN
METHOD:PUBLISH
X-ORIGINAL-URL:https://bienalmoacbiss.org
X-WR-CALDESC:Eventos para Bienal MoAC Biss
REFRESH-INTERVAL;VALUE=DURATION:PT1H
X-Robots-Tag:noindex
X-PUBLISHED-TTL:PT1H
BEGIN:VTIMEZONE
TZID:America/Sao_Paulo
BEGIN:STANDARD
TZOFFSETFROM:-0300
TZOFFSETTO:-0300
TZNAME:-03
DTSTART:20240101T000000
END:STANDARD
END:VTIMEZONE
BEGIN:VEVENT
DTSTART;TZID=America/Sao_Paulo:20250524T170000
DTEND;TZID=America/Sao_Paulo:20250524T200000
DTSTAMP:20260423T134340
CREATED:20250410T175748Z
LAST-MODIFIED:20250519T150626Z
UID:3789-1748106000-1748116800@bienalmoacbiss.org
SUMMARY:APRESENTAÇÃO DA OBRA - "Kali ku Kabas"
DESCRIPTION:  \nAPRESENTAÇÃO DA OBRA\nKali ku Kabas\nAutor: Ramiro Naka\nLocal: Jardins da Tiniguena\nData: 24\ 17h
URL:https://bienalmoacbiss.org/programacao/apresentacao-da-obra-kali-ku-kabas/
LOCATION:Jardins da Tiniguena\, Guinea-Bissau
CATEGORIES:Bienal,LANÇAMENTO,Literatura,Livro
ATTACH;FMTTYPE=image/webp:https://bienalmoacbiss.org/wp-content/uploads/2025/04/moacbiss25-cartaz-programacao-apresentacao-obra-kalikukabas-3.webp
ORGANIZER;CN="Coordena%C3%A7%C3%A3o da Funda%C3%A7%C3%A3o Bienal MoAC Biss":MAILTO:fundacaobienalmoacbiss@gmail.com
END:VEVENT
BEGIN:VEVENT
DTSTART;TZID=America/Sao_Paulo:20250524T200000
DTEND;TZID=America/Sao_Paulo:20250524T230000
DTSTAMP:20260423T134340
CREATED:20250410T181727Z
LAST-MODIFIED:20250519T135429Z
UID:3806-1748116800-1748127600@bienalmoacbiss.org
SUMMARY:CONCERTO OUTDOOR - “Na Bocana Di Riu Garandi” Mû Mbana e Djanuno Dabó
DESCRIPTION:CONCERTO OUTDOOR\n“Na Bocana Di Riu Garandi”\nArtistas: Mû Mbana e Djanuno Dabó\nLocal: Jardins da Tiniguena\nData: 24.05.2025\nHora: 20h
URL:https://bienalmoacbiss.org/programacao/concerto-outdoor-na-bocana-di-riu-garandi-mu-mbana-e-djanuno-dabo/
LOCATION:Jardins da Tiniguena\, Guinea-Bissau
CATEGORIES:Bienal,CONCERTO OUTDOOR,MÚSICA
ATTACH;FMTTYPE=image/webp:https://bienalmoacbiss.org/wp-content/uploads/2025/04/moacbiss25-cartaz-programacao-CONCERTO-OUTDOOR-mumbana.webp
ORGANIZER;CN="Coordena%C3%A7%C3%A3o da Funda%C3%A7%C3%A3o Bienal MoAC Biss":MAILTO:fundacaobienalmoacbiss@gmail.com
END:VEVENT
END:VCALENDAR