BEGIN:VCALENDAR
VERSION:2.0
PRODID:-//Bienal MoAC Biss - ECPv6.15.15//NONSGML v1.0//EN
CALSCALE:GREGORIAN
METHOD:PUBLISH
X-ORIGINAL-URL:https://bienalmoacbiss.org
X-WR-CALDESC:Eventos para Bienal MoAC Biss
REFRESH-INTERVAL;VALUE=DURATION:PT1H
X-Robots-Tag:noindex
X-PUBLISHED-TTL:PT1H
BEGIN:VTIMEZONE
TZID:America/Sao_Paulo
BEGIN:STANDARD
TZOFFSETFROM:-0300
TZOFFSETTO:-0300
TZNAME:-03
DTSTART:20240101T000000
END:STANDARD
END:VTIMEZONE
BEGIN:VEVENT
DTSTART;TZID=America/Sao_Paulo:20250517T180000
DTEND;TZID=America/Sao_Paulo:20250517T220000
DTSTAMP:20260423T134342
CREATED:20250410T174745Z
LAST-MODIFIED:20250515T103630Z
UID:3776-1747504800-1747519200@bienalmoacbiss.org
SUMMARY:MOSTRA: CINEMA DE MANDJUANDADI 4 - “Espiral em Ressonância" ; "Thinya"
DESCRIPTION:MOSTRA DE CINEMA DE MANDJUANDADI 4\nTítulos: “Espiral em Ressonância” ; “Thinya” \nRealizadores: Filipa César e Marinho Pina ; Lia Letícia\nLocal: Espaço Ur-Gente\nData: 17 \ 18h
URL:https://bienalmoacbiss.org/programacao/mostra-cinema-de-mandjuandadi-4-espiral-em-ressonancia-thinya/
LOCATION:Ur-Gente\, Guinea-Bissau
CATEGORIES:Bienal,CINEMA
ATTACH;FMTTYPE=image/webp:https://bienalmoacbiss.org/wp-content/uploads/2025/04/moacbiss25-cartaz-programacao-0505-MOSTRA-DE-CINEMA-DE-MANDJUANDADI-4-espiralressonancia-thinya-2.webp
ORGANIZER;CN="Coordena%C3%A7%C3%A3o da Funda%C3%A7%C3%A3o Bienal MoAC Biss":MAILTO:fundacaobienalmoacbiss@gmail.com
END:VEVENT
END:VCALENDAR