BEGIN:VCALENDAR
VERSION:2.0
PRODID:-//Bienal MoAC Biss - ECPv6.15.15//NONSGML v1.0//EN
CALSCALE:GREGORIAN
METHOD:PUBLISH
X-WR-CALNAME:Bienal MoAC Biss
X-ORIGINAL-URL:https://bienalmoacbiss.org
X-WR-CALDESC:Eventos para Bienal MoAC Biss
REFRESH-INTERVAL;VALUE=DURATION:PT1H
X-Robots-Tag:noindex
X-PUBLISHED-TTL:PT1H
BEGIN:VTIMEZONE
TZID:America/Sao_Paulo
BEGIN:STANDARD
TZOFFSETFROM:-0300
TZOFFSETTO:-0300
TZNAME:-03
DTSTART:20240101T000000
END:STANDARD
END:VTIMEZONE
BEGIN:VEVENT
DTSTART;TZID=America/Sao_Paulo:20250512T170000
DTEND;TZID=America/Sao_Paulo:20250512T200000
DTSTAMP:20260423T134227
CREATED:20250424T182314Z
LAST-MODIFIED:20250512T105256Z
UID:4023-1747069200-1747080000@bienalmoacbiss.org
SUMMARY:DJUMBAI COM ARTE 4 "Kriol di aos ku kriol di aonti – tapadas ku kangalutas”
DESCRIPTION:DJUMBAI COM ARTE 4 “Kriol di aos ku kriol di aonti – tapadas ku kangalutas”\nArtistas: Ibraima Djaló e Ronaldo Mendes\nPivo: Fátima Tchumá Camará\nLocal: Sede da Bienal\nData: 12 \ 17h
URL:https://bienalmoacbiss.org/programacao/djumbai-com-arte-4-kriol-di-aos-ku-kriol-di-aonti-tapadas-ku-kangalutas/
LOCATION:Sede da Bienal\, Bissau\, Bissau\, Guinea-Bissau
CATEGORIES:Bienal,DJUMBAI COM ARTE
ATTACH;FMTTYPE=image/webp:https://bienalmoacbiss.org/wp-content/uploads/2025/04/moacbiss25-cartaz-programacao-DJUMBAI-COM-ARTE-4-kriol-2.webp
ORGANIZER;CN="Coordena%C3%A7%C3%A3o da Funda%C3%A7%C3%A3o Bienal MoAC Biss":MAILTO:fundacaobienalmoacbiss@gmail.com
END:VEVENT
END:VCALENDAR