BEGIN:VCALENDAR
VERSION:2.0
PRODID:-//Bienal MoAC Biss - ECPv6.15.15//NONSGML v1.0//EN
CALSCALE:GREGORIAN
METHOD:PUBLISH
X-ORIGINAL-URL:https://bienalmoacbiss.org
X-WR-CALDESC:Eventos para Bienal MoAC Biss
REFRESH-INTERVAL;VALUE=DURATION:PT1H
X-Robots-Tag:noindex
X-PUBLISHED-TTL:PT1H
BEGIN:VTIMEZONE
TZID:America/Sao_Paulo
BEGIN:STANDARD
TZOFFSETFROM:-0300
TZOFFSETTO:-0300
TZNAME:-03
DTSTART:20240101T000000
END:STANDARD
END:VTIMEZONE
BEGIN:VEVENT
DTSTART;TZID=America/Sao_Paulo:20250511T100000
DTEND;TZID=America/Sao_Paulo:20250511T170000
DTSTAMP:20260423T134422
CREATED:20250410T155554Z
LAST-MODIFIED:20250509T135905Z
UID:3743-1746957600-1746982800@bienalmoacbiss.org
SUMMARY:ATELIER DO LIVRO E ILUSTRAÇÃO Raja Litwinoff
DESCRIPTION:ATELIER DO LIVRO E ILUSTRAÇÃO \nFacilitadora: Raja Litwinoff\nLocal: Bissau Velho\nData: 11.05.2025\nHora: 10h
URL:https://bienalmoacbiss.org/programacao/atelier-do-livro-e-ilustracao-raja-litwinoff/
LOCATION:Sede da Bienal\, Bissau\, Bissau\, Guinea-Bissau
CATEGORIES:Literatura,Livro
ATTACH;FMTTYPE=image/webp:https://bienalmoacbiss.org/wp-content/uploads/2025/04/moacbiss25-cartaz-programacao-ATELIER-DO-LIVRO-E-ILUSTRACAO-1.webp
ORGANIZER;CN="Coordena%C3%A7%C3%A3o da Funda%C3%A7%C3%A3o Bienal MoAC Biss":MAILTO:fundacaobienalmoacbiss@gmail.com
END:VEVENT
BEGIN:VEVENT
DTSTART;TZID=America/Sao_Paulo:20250511T180000
DTEND;TZID=America/Sao_Paulo:20250511T210000
DTSTAMP:20260423T134422
CREATED:20250410T133904Z
LAST-MODIFIED:20250511T110328Z
UID:3723-1746986400-1746997200@bienalmoacbiss.org
SUMMARY:MOSTRA: CINEMA DE MANDJUANDADI 2 - “Xime - Sana Na N´Hada”
DESCRIPTION:MOSTRA DE CINEMA DE MANDJUANDADI 2\nTítulo da Sessão:“Xime” \nRealizador: Sana Na N´Hada\nLocal: CCFBG\nData: 11.05.2025\nHora: 18h
URL:https://bienalmoacbiss.org/programacao/mostra-cinema-de-mandjuandadi-2-xime-sana-na-nhada/
LOCATION:CCFBG\, Guinea-Bissau
CATEGORIES:Bienal,CINEMA
ATTACH;FMTTYPE=image/webp:https://bienalmoacbiss.org/wp-content/uploads/2025/04/moacbiss25-cartaz-programacao-MOSTRA-DE-CINEMA-DE-MANDJUANDADI-1-xime-1.webp
ORGANIZER;CN="Coordena%C3%A7%C3%A3o da Funda%C3%A7%C3%A3o Bienal MoAC Biss":MAILTO:fundacaobienalmoacbiss@gmail.com
END:VEVENT
END:VCALENDAR