BEGIN:VCALENDAR
VERSION:2.0
PRODID:-//Bienal MoAC Biss - ECPv6.15.15//NONSGML v1.0//EN
CALSCALE:GREGORIAN
METHOD:PUBLISH
X-ORIGINAL-URL:https://bienalmoacbiss.org
X-WR-CALDESC:Eventos para Bienal MoAC Biss
REFRESH-INTERVAL;VALUE=DURATION:PT1H
X-Robots-Tag:noindex
X-PUBLISHED-TTL:PT1H
BEGIN:VTIMEZONE
TZID:America/Sao_Paulo
BEGIN:STANDARD
TZOFFSETFROM:-0300
TZOFFSETTO:-0300
TZNAME:-03
DTSTART:20240101T000000
END:STANDARD
END:VTIMEZONE
BEGIN:VEVENT
DTSTART;TZID=America/Sao_Paulo:20250507T180000
DTEND;TZID=America/Sao_Paulo:20250507T210000
DTSTAMP:20260423T133049
CREATED:20250410T132538Z
LAST-MODIFIED:20250507T152616Z
UID:3709-1746640800-1746651600@bienalmoacbiss.org
SUMMARY:ESPETÁCULO DE TEATRO 2 - “As Águas Também Choram” Joãozinho da Costa
DESCRIPTION:  \nESPETÁCULO DE TEATRO 2\nTítulo: “As Águas Também Choram” \nArtista: Joãozinho da Costa \nLocal: Ur-Gente\nData: 07.05.2025\nHora:18h
URL:https://bienalmoacbiss.org/programacao/espetaculo-de-teatro-2-as-aguas-t-joaozinho-da-costaambem-choram/
LOCATION:Ur-Gente\, Guinea-Bissau
CATEGORIES:Espetáculo,TEATRO
ATTACH;FMTTYPE=image/webp:https://bienalmoacbiss.org/wp-content/uploads/2025/04/moacbiss25-cartaz-programacao-ESPETACULO-DE-TEATRO-2-as-aguas-tb-choram.webp
ORGANIZER;CN="Coordena%C3%A7%C3%A3o da Funda%C3%A7%C3%A3o Bienal MoAC Biss":MAILTO:fundacaobienalmoacbiss@gmail.com
END:VEVENT
BEGIN:VEVENT
DTSTART;TZID=America/Sao_Paulo:20250507T200000
DTEND;TZID=America/Sao_Paulo:20250507T220000
DTSTAMP:20260423T133049
CREATED:20250424T175639Z
LAST-MODIFIED:20250507T162025Z
UID:3994-1746648000-1746655200@bienalmoacbiss.org
SUMMARY:DJUMBAI COM ARTE 2  "Mama Guiné – Estreia especial de um documentário" & “Artesões da Guiné-Bissau”
DESCRIPTION:DJUMBAI COM ARTE 2\n“Mama Guiné – Estreia especial de um documentário” \nConvidados:\nPedro Costa e António Spencer Embaló \nPivô: Tamilton Teixeira\nLocal: CPP\n(Espaço Exterior)\nData: 07 \ 20h
URL:https://bienalmoacbiss.org/programacao/djumbai-com-arte-2-mama-guine-estreia-especial-de-um-documentario-artesoes-da-guine-bissau/
LOCATION:Bissau
ATTACH;FMTTYPE=image/webp:https://bienalmoacbiss.org/wp-content/uploads/2025/04/moacbiss25-cartaz-programacao-DJUMBAI-COM-ARTE-2-mamaguine-1.webp
END:VEVENT
END:VCALENDAR