BEGIN:VCALENDAR
VERSION:2.0
PRODID:-//Bienal MoAC Biss - ECPv6.15.15//NONSGML v1.0//EN
CALSCALE:GREGORIAN
METHOD:PUBLISH
X-WR-CALNAME:Bienal MoAC Biss
X-ORIGINAL-URL:https://bienalmoacbiss.org
X-WR-CALDESC:Eventos para Bienal MoAC Biss
REFRESH-INTERVAL;VALUE=DURATION:PT1H
X-Robots-Tag:noindex
X-PUBLISHED-TTL:PT1H
BEGIN:VTIMEZONE
TZID:America/Sao_Paulo
BEGIN:STANDARD
TZOFFSETFROM:-0300
TZOFFSETTO:-0300
TZNAME:-03
DTSTART:20240101T000000
END:STANDARD
END:VTIMEZONE
BEGIN:VEVENT
DTSTART;TZID=America/Sao_Paulo:20250506T170000
DTEND;TZID=America/Sao_Paulo:20250506T190000
DTSTAMP:20260423T134104
CREATED:20250410T132100Z
LAST-MODIFIED:20250506T172203Z
UID:3703-1746550800-1746558000@bienalmoacbiss.org
SUMMARY:IDEALIZAR A KOOL ESTRUTURA 1 - "Arte e artistas africanos no mundo: do processo de aprendizagem aos desafios do mercado internacional"
DESCRIPTION:IDEALIZAR A KOOL ESTRUTURA 1 \nTítulo: “Arte e artistas africanos no mundo: do processo de aprendizagem aos desafios do mercado internacional”\nConvidados: Abdoulaye Konate\, César Schofield\, Mónica de Miranda e Heloísa Pisani\nModeração: Elisabete Myrian Gomes Sá\nLocal: Sede da Bienal\nData: 06 \ 17h
URL:https://bienalmoacbiss.org/programacao/idealizar-a-kool-estrutura-1-arte-e-artistas-africanos-no-mundo-do-processo-de-aprendizagem-aos-desafios-do-mercado-internacional/
LOCATION:Sede da Bienal\, Bissau\, Bissau\, Guinea-Bissau
CATEGORIES:Bienal,RODA DE CONVERSA
ATTACH;FMTTYPE=image/webp:https://bienalmoacbiss.org/wp-content/uploads/2025/04/moacbiss25-cartaz-programacao-idealizar-kool-1-2.webp
ORGANIZER;CN="Coordena%C3%A7%C3%A3o da Funda%C3%A7%C3%A3o Bienal MoAC Biss":MAILTO:fundacaobienalmoacbiss@gmail.com
END:VEVENT
BEGIN:VEVENT
DTSTART;TZID=America/Sao_Paulo:20250506T170000
DTEND;TZID=America/Sao_Paulo:20250506T200000
DTSTAMP:20260423T134104
CREATED:20250515T112134Z
LAST-MODIFIED:20250515T112134Z
UID:4609-1746550800-1746561600@bienalmoacbiss.org
SUMMARY:Idealizar a Kool Estrutura 1
DESCRIPTION:Arte e artistas africanos no mundo – do processo de aprendizagem aos desafios do mercado internacional\nNo passado dia 6 de maio\, realizou-se a conferência inaugural da KOOL\, dedicada ao tema “Arte e artistas africanos no mundo – do processo de aprendizagem aos desafios do mercado internacional”. \nCom intervenções de Heloisa Pisani e César Schofield\, e moderação de Elizabete Myriam Gomes Sá\, a sessão proporcionou uma reflexão profunda sobre o percurso dos artistas africanos no cenário internacional — desde as etapas formativas até às dificuldades de afirmação num mercado ainda desigual e desafiante. \nFoi um momento de grande partilha\, pensamento crítico e valorização da experiência artística africana no mundo contemporâneo.
URL:https://bienalmoacbiss.org/programacao/idealizar-a-kool-estrutura-1/
LOCATION:Sede da Bienal\, Bissau\, Bissau\, Guinea-Bissau
ATTACH;FMTTYPE=image/jpeg:https://bienalmoacbiss.org/wp-content/uploads/2025/05/artes-e-artistas.jpg
END:VEVENT
BEGIN:VEVENT
DTSTART;TZID=America/Sao_Paulo:20250506T200000
DTEND;TZID=America/Sao_Paulo:20250506T220000
DTSTAMP:20260423T134104
CREATED:20250515T110825Z
LAST-MODIFIED:20250515T110825Z
UID:4606-1746561600-1746568800@bienalmoacbiss.org
SUMMARY:Concerto Indoor 3
DESCRIPTION:Alana Sinkey\nA terceira sessão do ciclo INDOOR levou ao palco a voz poderosa e envolvente de Alana Sinkey\, numa performance intimista que cruzou soul\, jazz\, ritmos africanos e emoção pura. \nCom uma presença cativante e interpretações marcadas pela sensibilidade e autenticidade\, Alana encantou o público e transformou o espaço num momento de partilha profunda entre artista e plateia. Um concerto memorável\, onde a música falou todas as línguas do sentimento.
URL:https://bienalmoacbiss.org/programacao/concerto-indoor-3/
LOCATION:CCFBG\, Guinea-Bissau
CATEGORIES:MÚSICA
ATTACH;FMTTYPE=image/jpeg:https://bienalmoacbiss.org/wp-content/uploads/2025/05/Alana-Sinkey.jpg
END:VEVENT
BEGIN:VEVENT
DTSTART;TZID=America/Sao_Paulo:20250506T200000
DTEND;TZID=America/Sao_Paulo:20250506T230000
DTSTAMP:20260423T134104
CREATED:20250410T134056Z
LAST-MODIFIED:20250505T174812Z
UID:3726-1746561600-1746572400@bienalmoacbiss.org
SUMMARY:CONCERTO INDOOR 3 -  “I di nô tchon” Alana Sinkey
DESCRIPTION:“I di nô tchon”\nArtistas: Alana Sinkey\nLocal: CCFBG\nData: 06 \ 20h
URL:https://bienalmoacbiss.org/programacao/concerto-indoor-3-alanasinkey-i-di-no-tchon/
LOCATION:CCFBG\, Guinea-Bissau
CATEGORIES:Bienal,CONCERTO INDOOR,MÚSICA
ATTACH;FMTTYPE=image/webp:https://bienalmoacbiss.org/wp-content/uploads/2025/04/moacbiss25-cartaz-programacao-0305-concert-indoor-3-alanasinkey.webp
ORGANIZER;CN="Coordena%C3%A7%C3%A3o da Funda%C3%A7%C3%A3o Bienal MoAC Biss":MAILTO:fundacaobienalmoacbiss@gmail.com
END:VEVENT
END:VCALENDAR