BEGIN:VCALENDAR
VERSION:2.0
PRODID:-//Bienal MoAC Biss - ECPv6.15.15//NONSGML v1.0//EN
CALSCALE:GREGORIAN
METHOD:PUBLISH
X-ORIGINAL-URL:https://bienalmoacbiss.org
X-WR-CALDESC:Eventos para Bienal MoAC Biss
REFRESH-INTERVAL;VALUE=DURATION:PT1H
X-Robots-Tag:noindex
X-PUBLISHED-TTL:PT1H
BEGIN:VTIMEZONE
TZID:America/Sao_Paulo
BEGIN:STANDARD
TZOFFSETFROM:-0300
TZOFFSETTO:-0300
TZNAME:-03
DTSTART:20240101T000000
END:STANDARD
END:VTIMEZONE
BEGIN:VEVENT
DTSTART;TZID=America/Sao_Paulo:20250505T170000
DTEND;TZID=America/Sao_Paulo:20250505T190000
DTSTAMP:20260423T151331
CREATED:20250410T124024Z
LAST-MODIFIED:20250505T163654Z
UID:3666-1746464400-1746471600@bienalmoacbiss.org
SUMMARY:MASTERCLASS - ”O lugar da empatia na literatura infantojuvenil” Facilitadora: Kátia Casimiro
DESCRIPTION:  \n \nMASTERCLASS\nTítulo: ”O lugar da empatia na literatura infantojuvenil” \nFacilitadora: Kátia Casimiro\nLocal: AD/Bairro Quelelé \nData: 05.05.2025\nHora: 17h
URL:https://bienalmoacbiss.org/programacao/masterclass-o-lugar-da-empatia-na-literatura-infantojuvenil-facilitadora-katia-casimiro/
LOCATION:Jardins SOS\, Guinea-Bissau
CATEGORIES:Bienal,MASTERCLASS
ATTACH;FMTTYPE=image/webp:https://bienalmoacbiss.org/wp-content/uploads/2025/04/moacbiss25-cartaz-programacao-0305-masterclass-katia.webp
ORGANIZER;CN="Coordena%C3%A7%C3%A3o da Funda%C3%A7%C3%A3o Bienal MoAC Biss":MAILTO:fundacaobienalmoacbiss@gmail.com
END:VEVENT
END:VCALENDAR