BEGIN:VCALENDAR
VERSION:2.0
PRODID:-//Bienal MoAC Biss - ECPv6.15.15//NONSGML v1.0//EN
CALSCALE:GREGORIAN
METHOD:PUBLISH
X-WR-CALNAME:Bienal MoAC Biss
X-ORIGINAL-URL:https://bienalmoacbiss.org
X-WR-CALDESC:Eventos para Bienal MoAC Biss
REFRESH-INTERVAL;VALUE=DURATION:PT1H
X-Robots-Tag:noindex
X-PUBLISHED-TTL:PT1H
BEGIN:VTIMEZONE
TZID:America/Sao_Paulo
BEGIN:STANDARD
TZOFFSETFROM:-0300
TZOFFSETTO:-0300
TZNAME:-03
DTSTART:20240101T000000
END:STANDARD
END:VTIMEZONE
BEGIN:VEVENT
DTSTART;TZID=America/Sao_Paulo:20250504T170000
DTEND;TZID=America/Sao_Paulo:20250504T190000
DTSTAMP:20260423T132841
CREATED:20250410T133600Z
LAST-MODIFIED:20250504T110542Z
UID:3719-1746378000-1746385200@bienalmoacbiss.org
SUMMARY:LANÇAMENTO DE LIVRO 1 (duas obras) - 1 "As Origens do Nacionalismo Africano" e 2 "Kaydara"
DESCRIPTION:  \n \nLANÇAMENTO DE LIVRO 1 (duas obras)\nObras: “As Origens do Nacionalismo Africano 1” e “Kaydara 2” \nAutores: 1) Mário Pinto de Andrade | 2) Amadou Hampate Bá \nApresentadoras: Raja Litwinoff e Odete Semedo | Tamilton Teixeira\nLocal: Sede da Bienal\nData: 04.05.2025\nHora: 17h
URL:https://bienalmoacbiss.org/programacao/lancamento-de-livro-1-duas-obras-1-as-origens-do-nacionalismo-africano-e-2-kaydara/
LOCATION:Sede da Bienal\, Bissau\, Bissau\, Guinea-Bissau
CATEGORIES:Bienal,LANÇAMENTO,Livro
ATTACH;FMTTYPE=image/webp:https://bienalmoacbiss.org/wp-content/uploads/2025/04/moacbiss25-cartaz-programacao-0405-LANCAMENTO-DE-LIVRO-1-3.webp
ORGANIZER;CN="Coordena%C3%A7%C3%A3o da Funda%C3%A7%C3%A3o Bienal MoAC Biss":MAILTO:fundacaobienalmoacbiss@gmail.com
END:VEVENT
BEGIN:VEVENT
DTSTART;TZID=America/Sao_Paulo:20250504T200000
DTEND;TZID=America/Sao_Paulo:20250504T220000
DTSTAMP:20260423T132841
CREATED:20250410T124918Z
LAST-MODIFIED:20250504T110805Z
UID:3677-1746388800-1746396000@bienalmoacbiss.org
SUMMARY:ESPETÁCULO DE TEATRO 1 (ABERTURA) “Aurora Negra"
DESCRIPTION:ESPETÁCULO DE TEATRO 1 (ABERTURA) “Aurora Negra” \nArtistas: Coletivo Aurora Negra (Isabél Zuaa\, Cleo Diára e Nádia Yracema)\nLocal: Ur-Gente\nData: 04.05.2025\nHora: 20h
URL:https://bienalmoacbiss.org/programacao/espetaculo-de-teatro-1-abeespetaculo-de-teatro-1-abertura-aurora-negrartura/
LOCATION:Ur-Gente\, Guinea-Bissau
CATEGORIES:Bienal,TEATRO
ATTACH;FMTTYPE=image/webp:https://bienalmoacbiss.org/wp-content/uploads/2025/04/moacbiss25-cartaz-espetaculoteatro-1-auroranegra.webp
ORGANIZER;CN="Coordena%C3%A7%C3%A3o da Funda%C3%A7%C3%A3o Bienal MoAC Biss":MAILTO:fundacaobienalmoacbiss@gmail.com
END:VEVENT
END:VCALENDAR